BEGIN:VCALENDAR
VERSION:2.0
PRODID:-//wp-events-plugin.com//7.2.2.1//EN
TZID:Europe/Berlin
X-WR-TIMEZONE:Europe/Berlin
BEGIN:VEVENT
UID:6076@omasgegenrechts-nord.de
DTSTART;TZID=Europe/Berlin:20260428T180000
DTEND;TZID=Europe/Berlin:20260428T180000
DTSTAMP:20260412T191859Z
URL:https://omasgegenrechts-nord.de/events/bremen-vortrag-hermann-vinke/
SUMMARY:Bremen: Vortrag Hermann Vinke
DESCRIPTION:Die Bremer OMAS GEGEN RECHTS laden ein\nVortrag des Journaliste
 n und Autors Hermann VINKE\nHermann Vinke wird über seine Flugschrift mit
  dem Titel "Entscheidet Euch!" am Dienstag\, d. 28ten April 2026 um 18 Uhr
  in im DGB Haus Bremen sprechen.\n\nNach Ansicht des Autors kann sich bere
 its 2026 entscheiden\, ob Freiheit und Demokratie in Deutschland noch Best
 and haben oder sich das Land in Richtung auf einen autoritären Staat entw
 ickelt.\n\nDeshalb richtet sich die Schrift angesichts der Landtags- und K
 ommunalwahlen im Jahr 2026 an Wählerinnen und Wähler in Ost- und Westdeu
 tschland.\n\nVinke hat zahlreiche Bücher und zeithistorische Dokumentatio
 nen veröffentlicht\, darunter Biografien über Cato Bontjes van Beek und 
 Sophie Scholl. Seine neueste Flugschrift „Entscheidet euch“ steht in d
 er Tradition der Schriften des Widerstandskämpfer Stephane Hessel „Enga
 giert Euch“ und“ Empört Euch!“\n\nIn seinem Vortrag wird er auch ü
 ber seine Erfahrungen als Mitglied einer Gruppe "Gegen Vergessen - Für De
 mokratie e. V.\," die seit 2022 Initiativen und Persönlichkeiten in Ostde
 utschland in der Auseinandersetzung mit Rechtsextremisten unterstützt\, b
 erichten.\n\nDie Flugschrift "Entscheidet Euch!" ist im November 2025 im M
 etropol Verlag Berlin erschienen.\n\nOMAS GEGEN RECHTS Bremen\nKontakt: 
 info@omasgegenrechts-bremen.de
CATEGORIES:Bremen und Achim
END:VEVENT
BEGIN:VTIMEZONE
TZID:Europe/Berlin
X-LIC-LOCATION:Europe/Berlin
BEGIN:DAYLIGHT
DTSTART:20260329T030000
TZOFFSETFROM:+0100
TZOFFSETTO:+0200
TZNAME:CEST
END:DAYLIGHT
END:VTIMEZONE
END:VCALENDAR