BEGIN:VCALENDAR
VERSION:2.0
PRODID:-//wp-events-plugin.com//7.2.2.1//EN
TZID:Europe/Berlin
X-WR-TIMEZONE:Europe/Berlin
BEGIN:VEVENT
UID:4602@omasgegenrechts-nord.de
DTSTART;TZID=Europe/Berlin:20260310T193000
DTEND;TZID=Europe/Berlin:20260310T193000
DTSTAMP:20251120T172411Z
URL:https://omasgegenrechts-nord.de/events/bruehl-omas-gegen-rechts-stammt
 isch-2026-01-13-2026-02-10-2026-03-10/
SUMMARY:Brühl: OMAS GEGEN RECHTS Stammtisch
DESCRIPTION:Unsere monatlichen Treffen ("Stammtisch") finden jeden 2. Diens
 tag im Monat um 19:30 statt\n\nim Begegnungszentrum margaretaS\nHeinrich-F
 etten-Platz 3\, 50321 Brühl\nhttps://www.kkib.de/gemeindeleben/margaretas
 /\n\nMehr über uns und aktuelle Termine auch auf unserer Webvisitenkarte:
 \n=&gt\; https://omasgegenrechts-nord.de/bruehl/\n\nWir bitten um vorherig
 e Anmeldung über unsere E-Mail-Adresse\, falls jemand einmal "schnuppern"
  kommen möchte:\n\nOMAS GEGEN RECHTS Brühl / Rheinland\nKontakt: omasgeg
 enrechts-bruehl.nrw@web.de\n\n&nbsp\;
CATEGORIES:Brühl / Rheinland
END:VEVENT
BEGIN:VTIMEZONE
TZID:Europe/Berlin
X-LIC-LOCATION:Europe/Berlin
BEGIN:STANDARD
DTSTART:20251026T020000
TZOFFSETFROM:+0200
TZOFFSETTO:+0100
TZNAME:CET
END:STANDARD
END:VTIMEZONE
END:VCALENDAR