BEGIN:VCALENDAR
VERSION:2.0
PRODID:-//wp-events-plugin.com//7.2.2.1//EN
TZID:Europe/Berlin
X-WR-TIMEZONE:Europe/Berlin
BEGIN:VEVENT
UID:1034@omasgegenrechts-nord.de
DTSTART;TZID=Europe/Berlin:20240131T103000
DTEND;TZID=Europe/Berlin:20241224T113000
DTSTAMP:20241215T215325Z
URL:https://omasgegenrechts-nord.de/event-recurring/celle-mahnwache-der-om
 as/
SUMMARY:Celle: Mahnwache der OMAS
DESCRIPTION:Mahnwache jeden Mittwoch\nZeit: 10.30 bis 11.30 Uhr\nOrt: Celle
 \, Am Markt\, Nähe "Nordsee"\n\nOMAS GEGEN RECHTS Celle\nOmasgegenrechtsc
 elle@web.de\n\n
CATEGORIES:Celle
END:VEVENT
BEGIN:VEVENT
UID:1144@omasgegenrechts-nord.de
DTSTART;TZID=Europe/Berlin:20240304T110000
DTEND;TZID=Europe/Berlin:20241231T130000
DTSTAMP:20240811T130114Z
URL:https://omasgegenrechts-nord.de/event-recurring/celle-offener-stammtis
 ch-der-omas/
SUMMARY:Celle: Stammtisch der OMAS GEGEN RECHTS
DESCRIPTION:Stammtisch der Celler OMAS GEGEN RECHTS\nJeden 2. Dienstag im M
 onat\, 11 bis 13 Uhr\nCafé Atelier Glückskind\, Südwall 5\n(Lageplan &g
 t\; hier)\nInteressierte sind herzlich willkommen\n\nOMAS GEGEN RECHTS Ce
 lle\nKontakt: Omasgegenrechtscelle@web.de\n\n
CATEGORIES:Celle
LOCATION:#_LOCATIONNAME\, #_LOCATIONFULLLINE\, #_LOCATIONCOUNTRY
X-APPLE-STRUCTURED-LOCATION;VALUE=URI;X-ADDRESS=#_LOCATIONFULLLINE\, #_LOCA
 TIONCOUNTRY;X-APPLE-RADIUS=100;X-TITLE=#_LOCATIONNAME:geo:0,0
END:VEVENT
BEGIN:VEVENT
UID:2848@omasgegenrechts-nord.de
DTSTART;TZID=Europe/Berlin:20241015T170000
DTEND;TZID=Europe/Berlin:20241015T170000
DTSTAMP:20260425T104809Z
URL:https://omasgegenrechts-nord.de/event-recurring/celle-offenes-treffen-
 der-omas-gegen-rechts/
SUMMARY:Celle: OMAS GEGEN RECHTS - Offenes Treffen
DESCRIPTION:Offenes Treffen der Celler OMAS GEGEN RECHTS\nab 17.00 Uhr\, je
 den 3. Dienstag\nim Stadtteiltreff Neuenhäusen\, Emigrantenstr 1\, Celle\
 nInteressierte sind herzlich willkommen\n\nOMAS GEGEN RECHTS Celle\nKonta
 kt: Omasgegenrechtscelle@web.de\n\n
END:VEVENT
BEGIN:VEVENT
UID:2849@omasgegenrechts-nord.de
DTSTART;TZID=Europe/Berlin:20241119T170000
DTEND;TZID=Europe/Berlin:20241119T170000
DTSTAMP:20260425T104809Z
URL:https://omasgegenrechts-nord.de/event-recurring/celle-offenes-treffen-
 der-omas-gegen-rechts/
SUMMARY:Celle: OMAS GEGEN RECHTS - Offenes Treffen
DESCRIPTION:Offenes Treffen der Celler OMAS GEGEN RECHTS\nab 17.00 Uhr\, je
 den 3. Dienstag\nim Stadtteiltreff Neuenhäusen\, Emigrantenstr 1\, Celle\
 nInteressierte sind herzlich willkommen\n\nOMAS GEGEN RECHTS Celle\nKonta
 kt: Omasgegenrechtscelle@web.de\n\n
END:VEVENT
BEGIN:VEVENT
UID:2850@omasgegenrechts-nord.de
DTSTART;TZID=Europe/Berlin:20241217T170000
DTEND;TZID=Europe/Berlin:20241217T170000
DTSTAMP:20260425T104809Z
URL:https://omasgegenrechts-nord.de/event-recurring/celle-offenes-treffen-
 der-omas-gegen-rechts/
SUMMARY:Celle: OMAS GEGEN RECHTS - Offenes Treffen
DESCRIPTION:Offenes Treffen der Celler OMAS GEGEN RECHTS\nab 17.00 Uhr\, je
 den 3. Dienstag\nim Stadtteiltreff Neuenhäusen\, Emigrantenstr 1\, Celle\
 nInteressierte sind herzlich willkommen\n\nOMAS GEGEN RECHTS Celle\nKonta
 kt: Omasgegenrechtscelle@web.de\n\n
END:VEVENT
BEGIN:VEVENT
UID:2147@omasgegenrechts-nord.de
DTSTART;TZID=Europe/Berlin:20250108T103000
DTEND;TZID=Europe/Berlin:20251031T113000
DTSTAMP:20250414T163329Z
URL:https://omasgegenrechts-nord.de/event-recurring/celle-mahnwache-der-om
 as-2/
SUMMARY:Celle: OMAS Mahnwache am Markt
DESCRIPTION:Mahnwache jeden Mittwoch\nZeit: 10.30 bis 11.30 Uhr\nOrt: Celle
 \, Am Markt\, Nähe "Nordsee"\n\nOMAS GEGEN RECHTS Celle\nOmasgegenrechtsc
 elle@web.de\n\n
CATEGORIES:Celle
END:VEVENT
BEGIN:VEVENT
UID:2851@omasgegenrechts-nord.de
DTSTART;TZID=Europe/Berlin:20250121T170000
DTEND;TZID=Europe/Berlin:20250121T170000
DTSTAMP:20260425T104809Z
URL:https://omasgegenrechts-nord.de/event-recurring/celle-offenes-treffen-
 der-omas-gegen-rechts/
SUMMARY:Celle: OMAS GEGEN RECHTS - Offenes Treffen
DESCRIPTION:Offenes Treffen der Celler OMAS GEGEN RECHTS\nab 17.00 Uhr\, je
 den 3. Dienstag\nim Stadtteiltreff Neuenhäusen\, Emigrantenstr 1\, Celle\
 nInteressierte sind herzlich willkommen\n\nOMAS GEGEN RECHTS Celle\nKonta
 kt: Omasgegenrechtscelle@web.de\n\n
END:VEVENT
BEGIN:VEVENT
UID:2852@omasgegenrechts-nord.de
DTSTART;TZID=Europe/Berlin:20250218T170000
DTEND;TZID=Europe/Berlin:20250218T170000
DTSTAMP:20260425T104809Z
URL:https://omasgegenrechts-nord.de/event-recurring/celle-offenes-treffen-
 der-omas-gegen-rechts/
SUMMARY:Celle: OMAS GEGEN RECHTS - Offenes Treffen
DESCRIPTION:Offenes Treffen der Celler OMAS GEGEN RECHTS\nab 17.00 Uhr\, je
 den 3. Dienstag\nim Stadtteiltreff Neuenhäusen\, Emigrantenstr 1\, Celle\
 nInteressierte sind herzlich willkommen\n\nOMAS GEGEN RECHTS Celle\nKonta
 kt: Omasgegenrechtscelle@web.de\n\n
END:VEVENT
BEGIN:VEVENT
UID:2853@omasgegenrechts-nord.de
DTSTART;TZID=Europe/Berlin:20250318T170000
DTEND;TZID=Europe/Berlin:20250318T170000
DTSTAMP:20260425T104809Z
URL:https://omasgegenrechts-nord.de/event-recurring/celle-offenes-treffen-
 der-omas-gegen-rechts/
SUMMARY:Celle: OMAS GEGEN RECHTS - Offenes Treffen
DESCRIPTION:Offenes Treffen der Celler OMAS GEGEN RECHTS\nab 17.00 Uhr\, je
 den 3. Dienstag\nim Stadtteiltreff Neuenhäusen\, Emigrantenstr 1\, Celle\
 nInteressierte sind herzlich willkommen\n\nOMAS GEGEN RECHTS Celle\nKonta
 kt: Omasgegenrechtscelle@web.de\n\n
END:VEVENT
BEGIN:VEVENT
UID:2839@omasgegenrechts-nord.de
DTSTART;TZID=Europe/Berlin:20250401T100000
DTEND;TZID=Europe/Berlin:20251031T100000
DTSTAMP:20250414T163108Z
URL:https://omasgegenrechts-nord.de/event-recurring/23768/
SUMMARY:Celle: OMAS Infostand in der Celler Innenstadt
DESCRIPTION:Jeden 1. Sonnabend im Monat ab 10.00 Uhr Infostand in der Celle
 r Innenstadt (vor dem ehemaligen Karstadtgebäude)\n\nOMAS GEGEN RECHTS C
 elle\nKontakt: Omasgegenrechtscelle@web.de
CATEGORIES:Celle
END:VEVENT
BEGIN:VEVENT
UID:2854@omasgegenrechts-nord.de
DTSTART;TZID=Europe/Berlin:20250415T170000
DTEND;TZID=Europe/Berlin:20250415T170000
DTSTAMP:20260425T104809Z
URL:https://omasgegenrechts-nord.de/event-recurring/celle-offenes-treffen-
 der-omas-gegen-rechts/
SUMMARY:Celle: OMAS GEGEN RECHTS - Offenes Treffen
DESCRIPTION:Offenes Treffen der Celler OMAS GEGEN RECHTS\nab 17.00 Uhr\, je
 den 3. Dienstag\nim Stadtteiltreff Neuenhäusen\, Emigrantenstr 1\, Celle\
 nInteressierte sind herzlich willkommen\n\nOMAS GEGEN RECHTS Celle\nKonta
 kt: Omasgegenrechtscelle@web.de\n\n
END:VEVENT
BEGIN:VEVENT
UID:2855@omasgegenrechts-nord.de
DTSTART;TZID=Europe/Berlin:20250520T170000
DTEND;TZID=Europe/Berlin:20250520T170000
DTSTAMP:20260425T104809Z
URL:https://omasgegenrechts-nord.de/event-recurring/celle-offenes-treffen-
 der-omas-gegen-rechts/
SUMMARY:Celle: OMAS GEGEN RECHTS - Offenes Treffen
DESCRIPTION:Offenes Treffen der Celler OMAS GEGEN RECHTS\nab 17.00 Uhr\, je
 den 3. Dienstag\nim Stadtteiltreff Neuenhäusen\, Emigrantenstr 1\, Celle\
 nInteressierte sind herzlich willkommen\n\nOMAS GEGEN RECHTS Celle\nKonta
 kt: Omasgegenrechtscelle@web.de\n\n
END:VEVENT
BEGIN:VEVENT
UID:2856@omasgegenrechts-nord.de
DTSTART;TZID=Europe/Berlin:20250617T170000
DTEND;TZID=Europe/Berlin:20250617T170000
DTSTAMP:20260425T104809Z
URL:https://omasgegenrechts-nord.de/event-recurring/celle-offenes-treffen-
 der-omas-gegen-rechts/
SUMMARY:Celle: OMAS GEGEN RECHTS - Offenes Treffen
DESCRIPTION:Offenes Treffen der Celler OMAS GEGEN RECHTS\nab 17.00 Uhr\, je
 den 3. Dienstag\nim Stadtteiltreff Neuenhäusen\, Emigrantenstr 1\, Celle\
 nInteressierte sind herzlich willkommen\n\nOMAS GEGEN RECHTS Celle\nKonta
 kt: Omasgegenrechtscelle@web.de\n\n
END:VEVENT
BEGIN:VEVENT
UID:2857@omasgegenrechts-nord.de
DTSTART;TZID=Europe/Berlin:20250715T170000
DTEND;TZID=Europe/Berlin:20250715T170000
DTSTAMP:20260425T104809Z
URL:https://omasgegenrechts-nord.de/event-recurring/celle-offenes-treffen-
 der-omas-gegen-rechts/
SUMMARY:Celle: OMAS GEGEN RECHTS - Offenes Treffen
DESCRIPTION:Offenes Treffen der Celler OMAS GEGEN RECHTS\nab 17.00 Uhr\, je
 den 3. Dienstag\nim Stadtteiltreff Neuenhäusen\, Emigrantenstr 1\, Celle\
 nInteressierte sind herzlich willkommen\n\nOMAS GEGEN RECHTS Celle\nKonta
 kt: Omasgegenrechtscelle@web.de\n\n
END:VEVENT
BEGIN:VEVENT
UID:2858@omasgegenrechts-nord.de
DTSTART;TZID=Europe/Berlin:20250819T170000
DTEND;TZID=Europe/Berlin:20250819T170000
DTSTAMP:20260425T104809Z
URL:https://omasgegenrechts-nord.de/event-recurring/celle-offenes-treffen-
 der-omas-gegen-rechts/
SUMMARY:Celle: OMAS GEGEN RECHTS - Offenes Treffen
DESCRIPTION:Offenes Treffen der Celler OMAS GEGEN RECHTS\nab 17.00 Uhr\, je
 den 3. Dienstag\nim Stadtteiltreff Neuenhäusen\, Emigrantenstr 1\, Celle\
 nInteressierte sind herzlich willkommen\n\nOMAS GEGEN RECHTS Celle\nKonta
 kt: Omasgegenrechtscelle@web.de\n\n
END:VEVENT
BEGIN:VEVENT
UID:2859@omasgegenrechts-nord.de
DTSTART;TZID=Europe/Berlin:20250916T170000
DTEND;TZID=Europe/Berlin:20250916T170000
DTSTAMP:20260425T104809Z
URL:https://omasgegenrechts-nord.de/event-recurring/celle-offenes-treffen-
 der-omas-gegen-rechts/
SUMMARY:Celle: OMAS GEGEN RECHTS - Offenes Treffen
DESCRIPTION:Offenes Treffen der Celler OMAS GEGEN RECHTS\nab 17.00 Uhr\, je
 den 3. Dienstag\nim Stadtteiltreff Neuenhäusen\, Emigrantenstr 1\, Celle\
 nInteressierte sind herzlich willkommen\n\nOMAS GEGEN RECHTS Celle\nKonta
 kt: Omasgegenrechtscelle@web.de\n\n
END:VEVENT
BEGIN:VEVENT
UID:4535@omasgegenrechts-nord.de
DTSTART;TZID=Europe/Berlin:20260210T110000
DTEND;TZID=Europe/Berlin:20260210T110000
DTSTAMP:20251030T000146Z
URL:https://omasgegenrechts-nord.de/events/celle-stammtisch-der-omas-gegen
 -rechts-2026-02-10/
SUMMARY:Celle: OMAS GEGEN RECHTS Stammtisch
DESCRIPTION:Stammtisch der Celler OMAS GEGEN RECHTS\nJeden 2. Dienstag im M
 onat\, ab 11 Uhr\nim Stadtteiltreff Neuenhäusen\, Emigrantenstr 1\, Cell
 e\nInteressierte sind herzlich willkommen\n\nOMAS GEGEN RECHTS Celle\nKon
 takt: Omasgegenrechtscelle@web.de\n\n
CATEGORIES:Celle
END:VEVENT
BEGIN:VEVENT
UID:4520@omasgegenrechts-nord.de
DTSTART;TZID=Europe/Berlin:20260211T103000
DTEND;TZID=Europe/Berlin:20260211T113000
DTSTAMP:20251029T235839Z
URL:https://omasgegenrechts-nord.de/events/celle-mahnwache-2025-10-01-2025
 -10-08-2025-10-15-2025-10-22-2025-10-29-2025-11-05-2025-11-12-2025-11-19-2
 025-11-26-2025-12-03-2025-12-10-2025-12-17-2025-12-24-2025-12-31-2026-01-0
 7-2026-04-2026-02-11/
SUMMARY:Celle: Mahnwache
DESCRIPTION:Mahnwache jeden Mittwoch\nZeit: 10.30 bis 11.30 Uhr\nOrt: Celle
 \, Am Markt\, Nähe "Nordsee"\n\nOMAS GEGEN RECHTS Celle\nOmasgegenrechtsc
 elle@web.de\n\n
CATEGORIES:Celle
END:VEVENT
BEGIN:VEVENT
UID:4530@omasgegenrechts-nord.de
DTSTART;TZID=Europe/Berlin:20260217T170000
DTEND;TZID=Europe/Berlin:20260217T170000
DTSTAMP:20251030T000111Z
URL:https://omasgegenrechts-nord.de/events/celle-offenes-treffen-der-omas-
 gegen-rechts-2026-02-17/
SUMMARY:Celle: OMAS GEGEN RECHTS - Offenes Treffen
DESCRIPTION:Offenes Treffen der Celler OMAS GEGEN RECHTS\nab 17.00 Uhr\, je
 den 3. Dienstag\nim Stadtteiltreff Neuenhäusen\, Emigrantenstr 1\, Celle\
 nInteressierte sind herzlich willkommen\n\nOMAS GEGEN RECHTS Celle\nKonta
 kt: Omasgegenrechtscelle@web.de\n\n
CATEGORIES:Celle
END:VEVENT
BEGIN:VEVENT
UID:4521@omasgegenrechts-nord.de
DTSTART;TZID=Europe/Berlin:20260218T103000
DTEND;TZID=Europe/Berlin:20260218T113000
DTSTAMP:20251029T235839Z
URL:https://omasgegenrechts-nord.de/events/celle-mahnwache-2025-10-01-2025
 -10-08-2025-10-15-2025-10-22-2025-10-29-2025-11-05-2025-11-12-2025-11-19-2
 025-11-26-2025-12-03-2025-12-10-2025-12-17-2025-12-24-2025-12-31-2026-01-0
 7-2026-11-2026-02-18/
SUMMARY:Celle: Mahnwache
DESCRIPTION:Mahnwache jeden Mittwoch\nZeit: 10.30 bis 11.30 Uhr\nOrt: Celle
 \, Am Markt\, Nähe "Nordsee"\n\nOMAS GEGEN RECHTS Celle\nOmasgegenrechtsc
 elle@web.de\n\n
CATEGORIES:Celle
END:VEVENT
BEGIN:VEVENT
UID:4540@omasgegenrechts-nord.de
DTSTART;TZID=Europe/Berlin:20260224T180000
DTEND;TZID=Europe/Berlin:20260224T180000
DTSTAMP:20251030T000233Z
URL:https://omasgegenrechts-nord.de/events/celle-liederabend-mit-dem-schab
 rackenchor-2026-02-24/
SUMMARY:Celle: Liederabend mit dem Schabrackenchor
DESCRIPTION:Jeden 4. Dienstag im Monat ab 18.00 Uhr:\n\nLiederabend mit dem
  Schabrackenchor\,\n\nim Stadtteiltreff Neuenhäusen\, Emigrantenstr 1\, C
 elle\n\nOMAS GEGEN RECHTS Celle\nKontakt: Omasgegenrechtscelle@web.de\n\
 n\n\n&nbsp\;
CATEGORIES:Celle
END:VEVENT
BEGIN:VEVENT
UID:4522@omasgegenrechts-nord.de
DTSTART;TZID=Europe/Berlin:20260225T103000
DTEND;TZID=Europe/Berlin:20260225T113000
DTSTAMP:20251029T235839Z
URL:https://omasgegenrechts-nord.de/events/celle-mahnwache-2025-10-01-2025
 -10-08-2025-10-15-2025-10-22-2025-10-29-2025-11-05-2025-11-12-2025-11-19-2
 025-11-26-2025-12-03-2025-12-10-2025-12-17-2025-12-24-2025-12-31-2026-01-0
 7-2026-18-2026-02-25/
SUMMARY:Celle: Mahnwache
DESCRIPTION:Mahnwache jeden Mittwoch\nZeit: 10.30 bis 11.30 Uhr\nOrt: Celle
 \, Am Markt\, Nähe "Nordsee"\n\nOMAS GEGEN RECHTS Celle\nOmasgegenrechtsc
 elle@web.de\n\n
CATEGORIES:Celle
END:VEVENT
BEGIN:VEVENT
UID:4523@omasgegenrechts-nord.de
DTSTART;TZID=Europe/Berlin:20260304T103000
DTEND;TZID=Europe/Berlin:20260304T113000
DTSTAMP:20251029T235839Z
URL:https://omasgegenrechts-nord.de/events/celle-mahnwache-2025-10-01-2025
 -10-08-2025-10-15-2025-10-22-2025-10-29-2025-11-05-2025-11-12-2025-11-19-2
 025-11-26-2025-12-03-2025-12-10-2025-12-17-2025-12-24-2025-12-31-2026-01-0
 7-2026-25-2026-03-04/
SUMMARY:Celle: Mahnwache
DESCRIPTION:Mahnwache jeden Mittwoch\nZeit: 10.30 bis 11.30 Uhr\nOrt: Celle
 \, Am Markt\, Nähe "Nordsee"\n\nOMAS GEGEN RECHTS Celle\nOmasgegenrechtsc
 elle@web.de\n\n
CATEGORIES:Celle
END:VEVENT
BEGIN:VEVENT
UID:4536@omasgegenrechts-nord.de
DTSTART;TZID=Europe/Berlin:20260310T110000
DTEND;TZID=Europe/Berlin:20260310T110000
DTSTAMP:20251030T000146Z
URL:https://omasgegenrechts-nord.de/events/celle-stammtisch-der-omas-gegen
 -rechts-2026-03-10/
SUMMARY:Celle: OMAS GEGEN RECHTS Stammtisch
DESCRIPTION:Stammtisch der Celler OMAS GEGEN RECHTS\nJeden 2. Dienstag im M
 onat\, ab 11 Uhr\nim Stadtteiltreff Neuenhäusen\, Emigrantenstr 1\, Cell
 e\nInteressierte sind herzlich willkommen\n\nOMAS GEGEN RECHTS Celle\nKon
 takt: Omasgegenrechtscelle@web.de\n\n
CATEGORIES:Celle
END:VEVENT
BEGIN:VEVENT
UID:4524@omasgegenrechts-nord.de
DTSTART;TZID=Europe/Berlin:20260311T103000
DTEND;TZID=Europe/Berlin:20260311T113000
DTSTAMP:20251029T235839Z
URL:https://omasgegenrechts-nord.de/events/celle-mahnwache-2025-10-01-2025
 -10-08-2025-10-15-2025-10-22-2025-10-29-2025-11-05-2025-11-12-2025-11-19-2
 025-11-26-2025-12-03-2025-12-10-2025-12-17-2025-12-24-2025-12-31-2026-01-0
 7-2026-04-2026-03-11/
SUMMARY:Celle: Mahnwache
DESCRIPTION:Mahnwache jeden Mittwoch\nZeit: 10.30 bis 11.30 Uhr\nOrt: Celle
 \, Am Markt\, Nähe "Nordsee"\n\nOMAS GEGEN RECHTS Celle\nOmasgegenrechtsc
 elle@web.de\n\n
CATEGORIES:Celle
END:VEVENT
BEGIN:VEVENT
UID:4531@omasgegenrechts-nord.de
DTSTART;TZID=Europe/Berlin:20260317T170000
DTEND;TZID=Europe/Berlin:20260317T170000
DTSTAMP:20251030T000111Z
URL:https://omasgegenrechts-nord.de/events/celle-offenes-treffen-der-omas-
 gegen-rechts-2026-03-17/
SUMMARY:Celle: OMAS GEGEN RECHTS - Offenes Treffen
DESCRIPTION:Offenes Treffen der Celler OMAS GEGEN RECHTS\nab 17.00 Uhr\, je
 den 3. Dienstag\nim Stadtteiltreff Neuenhäusen\, Emigrantenstr 1\, Celle\
 nInteressierte sind herzlich willkommen\n\nOMAS GEGEN RECHTS Celle\nKonta
 kt: Omasgegenrechtscelle@web.de\n\n
CATEGORIES:Celle
END:VEVENT
BEGIN:VEVENT
UID:4525@omasgegenrechts-nord.de
DTSTART;TZID=Europe/Berlin:20260318T103000
DTEND;TZID=Europe/Berlin:20260318T113000
DTSTAMP:20251029T235839Z
URL:https://omasgegenrechts-nord.de/events/celle-mahnwache-2025-10-01-2025
 -10-08-2025-10-15-2025-10-22-2025-10-29-2025-11-05-2025-11-12-2025-11-19-2
 025-11-26-2025-12-03-2025-12-10-2025-12-17-2025-12-24-2025-12-31-2026-01-0
 7-2026-11-2026-03-18/
SUMMARY:Celle: Mahnwache
DESCRIPTION:Mahnwache jeden Mittwoch\nZeit: 10.30 bis 11.30 Uhr\nOrt: Celle
 \, Am Markt\, Nähe "Nordsee"\n\nOMAS GEGEN RECHTS Celle\nOmasgegenrechtsc
 elle@web.de\n\n
CATEGORIES:Celle
END:VEVENT
BEGIN:VEVENT
UID:4541@omasgegenrechts-nord.de
DTSTART;TZID=Europe/Berlin:20260324T180000
DTEND;TZID=Europe/Berlin:20260324T180000
DTSTAMP:20251030T000233Z
URL:https://omasgegenrechts-nord.de/events/celle-liederabend-mit-dem-schab
 rackenchor-2026-03-24/
SUMMARY:Celle: Liederabend mit dem Schabrackenchor
DESCRIPTION:Jeden 4. Dienstag im Monat ab 18.00 Uhr:\n\nLiederabend mit dem
  Schabrackenchor\,\n\nim Stadtteiltreff Neuenhäusen\, Emigrantenstr 1\, C
 elle\n\nOMAS GEGEN RECHTS Celle\nKontakt: Omasgegenrechtscelle@web.de\n\
 n\n\n&nbsp\;
CATEGORIES:Celle
END:VEVENT
BEGIN:VEVENT
UID:4526@omasgegenrechts-nord.de
DTSTART;TZID=Europe/Berlin:20260325T103000
DTEND;TZID=Europe/Berlin:20260325T113000
DTSTAMP:20251029T235839Z
URL:https://omasgegenrechts-nord.de/events/celle-mahnwache-2025-10-01-2025
 -10-08-2025-10-15-2025-10-22-2025-10-29-2025-11-05-2025-11-12-2025-11-19-2
 025-11-26-2025-12-03-2025-12-10-2025-12-17-2025-12-24-2025-12-31-2026-01-0
 7-2026-18-2026-03-25/
SUMMARY:Celle: Mahnwache
DESCRIPTION:Mahnwache jeden Mittwoch\nZeit: 10.30 bis 11.30 Uhr\nOrt: Celle
 \, Am Markt\, Nähe "Nordsee"\n\nOMAS GEGEN RECHTS Celle\nOmasgegenrechtsc
 elle@web.de\n\n
CATEGORIES:Celle
END:VEVENT
BEGIN:VTIMEZONE
TZID:Europe/Berlin
X-LIC-LOCATION:Europe/Berlin
BEGIN:STANDARD
DTSTART:20231029T020000
TZOFFSETFROM:+0200
TZOFFSETTO:+0100
TZNAME:CET
END:STANDARD
BEGIN:DAYLIGHT
DTSTART:20240331T030000
TZOFFSETFROM:+0100
TZOFFSETTO:+0200
TZNAME:CEST
END:DAYLIGHT
BEGIN:STANDARD
DTSTART:20241027T020000
TZOFFSETFROM:+0200
TZOFFSETTO:+0100
TZNAME:CET
END:STANDARD
BEGIN:DAYLIGHT
DTSTART:20250330T030000
TZOFFSETFROM:+0100
TZOFFSETTO:+0200
TZNAME:CEST
END:DAYLIGHT
BEGIN:STANDARD
DTSTART:20251026T020000
TZOFFSETFROM:+0200
TZOFFSETTO:+0100
TZNAME:CET
END:STANDARD
END:VTIMEZONE
END:VCALENDAR