BEGIN:VCALENDAR
VERSION:2.0
PRODID:-//wp-events-plugin.com//7.2.2.1//EN
TZID:Europe/Berlin
X-WR-TIMEZONE:Europe/Berlin
BEGIN:VEVENT
UID:5753@omasgegenrechts-nord.de
DTSTART;TZID=Europe/Berlin:20260227T180000
DTEND;TZID=Europe/Berlin:20260227T180000
DTSTAMP:20260213T171112Z
URL:https://omasgegenrechts-nord.de/events/friedberg-bad-nauheim-vortrag-u
 nd-dialog-was-wir-riskieren-wenn-wir-schweigen/
SUMMARY:Friedberg / Bad Nauheim: Vortrag und Dialog "Was wir riskieren\, we
 nn wir schweigen"
DESCRIPTION:Friedberg\, Theater Altes Hallenbad\nVortrag und Dialog "Was wi
 r riskieren\, wenn wir schweigen"\n\n27.2.26\, um 18 Uhr\, Eintritt frei\n
 \nAlle Infos &gt\; hier im Flyer (PDF)\n\nOMAS GEGEN RECHTS Friedberg – 
 Bad Nauheim\nKontakt: ogr-fb-bn@posteo.de
CATEGORIES:Friedberg - Bad Nauheim
END:VEVENT
BEGIN:VTIMEZONE
TZID:Europe/Berlin
X-LIC-LOCATION:Europe/Berlin
BEGIN:STANDARD
DTSTART:20251026T020000
TZOFFSETFROM:+0200
TZOFFSETTO:+0100
TZNAME:CET
END:STANDARD
END:VTIMEZONE
END:VCALENDAR