BEGIN:VCALENDAR
VERSION:2.0
PRODID:-//wp-events-plugin.com//7.2.2.1//EN
TZID:Europe/Berlin
X-WR-TIMEZONE:Europe/Berlin
BEGIN:VEVENT
UID:4682@omasgegenrechts-nord.de
DTSTART;TZID=Europe/Berlin:20260225T103000
DTEND;TZID=Europe/Berlin:20260225T123000
DTSTAMP:20251128T203443Z
URL:https://omasgegenrechts-nord.de/events/huerth-oma-abend-treffen-2026-f
 ebruar/
SUMMARY:Hürth: OMA Treffen
DESCRIPTION:Im Febuar 2026 steht uns der Raum nicht für unser "Donnerstag-
 Abend-Treffen" zur Verfügung\, daher findet "außer der Reihe" dieses Tre
 ffen statt am\n\nMittwoch 25.02. 10:30 - 12:30\n\nEv. Martin-Luther-King K
 irche\n50354 Hürth\, Villering 38\n\nDie genauen Zeiten können wechseln 
 - bitte sicherheitshalber per Email anfragen:\n\nOMAS GEGEN RECHTS Hürth\
 nKontakt: omasgegenrechts-huerth@web.de
CATEGORIES:Hürth
END:VEVENT
BEGIN:VEVENT
UID:5649@omasgegenrechts-nord.de
DTSTART;TZID=Europe/Berlin:20260307T150000
DTEND;TZID=Europe/Berlin:20260307T170000
DTSTAMP:20260227T220325Z
URL:https://omasgegenrechts-nord.de/events/huerth-auftaktveranstaltung-kla
 ra-klartext/
SUMMARY:Hürth: Auftaktveranstaltung "Klara Klartext"
DESCRIPTION:Herzliche Einladung zur Auftaktveranstaltung und Vorstellung\n\
 nFakten statt Hetze – mit KI gegen Desinformation:\nKlara Klartext\, ein
  von den OMAS GEGEN RECHTS mitentwickelter ChatBot!\n\n Samstag 07. März 
 2026 von 15.00 – 17.00 Uhr \n\n Ev. Friedenskirche in Hürth-Efferen\, M
 artin-Luther-Straße 12\n\nWas ist Klara Klartext?\n\n„Klara Klartext“
  ist ein Chatbot\, speziell entwickelt um Hilfen gegen Hass\, Hetze und Fa
 lschmeldungen in Social Media anzubieten. Der Bot bietet Unterstützung i
 n Gesprächen an Infoständen\, in Diskussionen und in den sozialen Netzwe
 rken. Auch im Alltag\, am Arbeitsplatz\, in der Familie\, in politischen D
 iskussionen und Debatten\, gezielt auch bei Workshops in Schulen und in de
 r Jugendarbeit.\n\nDer Chat Bot wurde (ehrenamtlich) von Bernadette Smail 
 (Toronto) und den OMAS GEGEN RECHTS Hürth erarbeitet. Sandra von den OMA
 S GEGEN RECHTS Nord &amp\; Bund stand „Patin“\, hat bei der Webentwick
 lung beraten und hält eine Einführung in das Klara / KI System.\n\nNach 
 der Veranstaltung wird der QR Code allen kostenfrei zugänglich gemacht.\n
 \nOMAS GEGEN RECHTS Hürth\nKontakt: omasgegenrechts-huerth@web.de\n\n[g
 allery type="rectangular" columns="2" size="medium" ids="32418\,32417"]
CATEGORIES:Hürth
END:VEVENT
BEGIN:VEVENT
UID:5853@omasgegenrechts-nord.de
DTSTART;TZID=Europe/Berlin:20260318T103000
DTEND;TZID=Europe/Berlin:20260318T123000
DTSTAMP:20260315T225615Z
URL:https://omasgegenrechts-nord.de/events/huerth-14taetiges-oma-mittwochs
 treffen-2026-03-18/
SUMMARY:Hürth: 14tätiges OMA Mittwochs-Treffen
DESCRIPTION:14tägiges Treffen\, mittwochs von 10:30 - 12:30 Uhr\n\nEv. Mar
 tin-Luther-King Kirche\n50354 Hürth\, Villering 38\n\nDie genauen Zeiten 
 können wechseln - bitte sicherheitshalber per Email anfragen:\n\nOMAS GEG
 EN RECHTS Hürth\nKontakt: omasgegenrechts-huerth@web.de
CATEGORIES:Hürth
END:VEVENT
BEGIN:VEVENT
UID:4681@omasgegenrechts-nord.de
DTSTART;TZID=Europe/Berlin:20260319T190000
DTEND;TZID=Europe/Berlin:20260319T210000
DTSTAMP:20251128T203228Z
URL:https://omasgegenrechts-nord.de/events/huerth-oma-abend-treffen-2026-m
 aerz/
SUMMARY:Hürth: OMA "Abend-Treffen"
DESCRIPTION:Dies ist unser monatlicher "Abendtermin"\, zusätzlich zu unser
 en 14tägigen Mittwochs-Treffen.\n\nEv. Martin-Luther-King Kirche\n50354 H
 ürth\, Villering 38\n\nDie genauen Zeiten können wechseln - bitte sicher
 heitshalber per Email anfragen:\n\nOMAS GEGEN RECHTS Hürth\nKontakt: omas
 gegenrechts-huerth@web.de
CATEGORIES:Hürth
END:VEVENT
BEGIN:VEVENT
UID:4679@omasgegenrechts-nord.de
DTSTART;TZID=Europe/Berlin:20260325T103000
DTEND;TZID=Europe/Berlin:20260325T123000
DTSTAMP:20260314T155341Z
URL:https://omasgegenrechts-nord.de/events/huerth-14taetiges-oma-mittwochs
 treffen-2026-01-07-2026-01-21-2026-02-04-2026-02-18-2026-03-04-2026-03-18/
SUMMARY:Hürth: 14tätiges OMA Mittwochs-Treffen
DESCRIPTION:OMA Treffen\n\nEv. Martin-Luther-King Kirche\n50354 Hürth\, Vi
 llering 38\n\nDie genauen Zeiten können wechseln - bitte sicherheitshalbe
 r per Email anfragen:\n\nOMAS GEGEN RECHTS Hürth\nKontakt: omasgegenrecht
 s-huerth@web.de
CATEGORIES:Hürth
END:VEVENT
BEGIN:VEVENT
UID:5912@omasgegenrechts-nord.de
DTSTART;TZID=Europe/Berlin:20260325T190000
DTEND;TZID=Europe/Berlin:20260325T190000
DTSTAMP:20260316T215215Z
URL:https://omasgegenrechts-nord.de/events/bruehl-lili-koerber-abschied-vo
 n-gestern-lesung-und-vortrag-3/
SUMMARY:Brühl: Lili Körber - Abschied von Gestern - Lesung und Vortrag
DESCRIPTION:Lili Körber - Abschied von Gestern - Lesung und Vortrag\n\nOrt
 : Margaretas in Brühl\, Heinrich-Fetten-Platz 3\nZeit: Mittwoch\, den 25.
  März 2026\, 19:00 Uhr\nEintritt frei\n\nDie OMAS GEGEN RECHTS Erftstadt\
 , Brühl und Hürth laden ein zu einer Veranstaltung mit Dr. Viktoria Hert
 ling.\n\nDie emeritierte Professorin für Holocaust- und Exilforschung ist
  die Nachlassverwalterin von Lili Körber. Sie wird über das Leben der Au
 torin berichten und deren erst jetzt ins Deutsche übersetzten Roman - Abs
 chied von Gestern - mit einigen Textauszügen vorstellen.\n\nLili Körber 
 (1897-1982) musste 1938 das von den Nazis besetzte Österreich aus politis
 chen Gründen verlassen. Nach Stationen in Zürich\, Paris und Lyon gelang
 te sie 1941 nach New York\, wo sie bis zu ihrem Tod 1982 lebte. Anhand fik
 tiver Personen\, aber basierend auf realen Lebensgeschichten\, schildert K
 örber die Existenzkämpfe der aus dem Leben gerissenen\, geflüchteten Me
 nschen. Souverän und präzise im Ton erzählt - Abschied von Gestern - vo
 n Vertreibung\, Abschied und Neuanfang.\n\nDr. Viktoria Hertling wird im A
 nschluss das Buch von Lili Körber signieren.\n\nEs wird einen Büchertisc
 h mit Büchern zur Thematik geben. Die Bücher werden von der Buchhandlung
  Brockmann zur Verfügung gestellt.\n\nOMAS GEGEN RECHTS Brühl / Rheinla
 nd\nKontakt: omasgegenrechts-bruehl.nrw@web.de\n\nOMAS GEGEN RECHTS Erft
 stadt\, Rhein-Erft Kreis\nKontakt: ogr.rek@netcologne.de\n\nOMAS GEGEN RE
 CHTS Hürth\nKontakt: omasgegenrechts-huerth@web.de\n\n
CATEGORIES:Hürth
END:VEVENT
BEGIN:VEVENT
UID:5899@omasgegenrechts-nord.de
DTSTART;TZID=Europe/Berlin:20260408T103000
DTEND;TZID=Europe/Berlin:20260408T123000
DTSTAMP:20260315T225915Z
URL:https://omasgegenrechts-nord.de/events/huerth-14taetiges-oma-mittwochs
 -treffen-2026-04-08/
SUMMARY:Hürth: 14tätiges OMA Mittwochs-Treffen
DESCRIPTION:14tägiges Treffen\, mittwochs von 10:30 - 12:30 Uhr\n\nEv. Mar
 tin-Luther-King Kirche\n50354 Hürth\, Villering 38\n\nDie genauen Zeiten 
 können wechseln - bitte sicherheitshalber per Email anfragen:\n\nOMAS GEG
 EN RECHTS Hürth\nKontakt: omasgegenrechts-huerth@web.de
CATEGORIES:Hürth
END:VEVENT
BEGIN:VEVENT
UID:5900@omasgegenrechts-nord.de
DTSTART;TZID=Europe/Berlin:20260422T103000
DTEND;TZID=Europe/Berlin:20260422T123000
DTSTAMP:20260315T225915Z
URL:https://omasgegenrechts-nord.de/events/huerth-14taetiges-oma-mittwochs
 -treffen-2026-04-08-2026-04-22/
SUMMARY:Hürth: 14tätiges OMA Mittwochs-Treffen
DESCRIPTION:14tägiges Treffen\, mittwochs von 10:30 - 12:30 Uhr\n\nEv. Mar
 tin-Luther-King Kirche\n50354 Hürth\, Villering 38\n\nDie genauen Zeiten 
 können wechseln - bitte sicherheitshalber per Email anfragen:\n\nOMAS GEG
 EN RECHTS Hürth\nKontakt: omasgegenrechts-huerth@web.de
CATEGORIES:Hürth
END:VEVENT
BEGIN:VEVENT
UID:5907@omasgegenrechts-nord.de
DTSTART;TZID=Europe/Berlin:20260430T190000
DTEND;TZID=Europe/Berlin:20260430T210000
DTSTAMP:20260315T225951Z
URL:https://omasgegenrechts-nord.de/events/huerth-oma-abend-treffen/
SUMMARY:Hürth: OMA "Abend-Treffen"
DESCRIPTION:Dies ist unser monatlicher "Abendtermin"\, zusätzlich zu unser
 en 14tägigen Mittwochs-Treffen.\n\nEv. Martin-Luther-King Kirche\n50354 H
 ürth\, Villering 38\n\nDie genauen Zeiten können wechseln - bitte sicher
 heitshalber per Email anfragen:\n\nOMAS GEGEN RECHTS Hürth\nKontakt: omas
 gegenrechts-huerth@web.de
CATEGORIES:Hürth
END:VEVENT
BEGIN:VEVENT
UID:5901@omasgegenrechts-nord.de
DTSTART;TZID=Europe/Berlin:20260506T103000
DTEND;TZID=Europe/Berlin:20260506T123000
DTSTAMP:20260315T225915Z
URL:https://omasgegenrechts-nord.de/events/huerth-14taetiges-oma-mittwochs
 -treffen-2026-04-08-2026-04-22-2026-05-06/
SUMMARY:Hürth: 14tätiges OMA Mittwochs-Treffen
DESCRIPTION:14tägiges Treffen\, mittwochs von 10:30 - 12:30 Uhr\n\nEv. Mar
 tin-Luther-King Kirche\n50354 Hürth\, Villering 38\n\nDie genauen Zeiten 
 können wechseln - bitte sicherheitshalber per Email anfragen:\n\nOMAS GEG
 EN RECHTS Hürth\nKontakt: omasgegenrechts-huerth@web.de
CATEGORIES:Hürth
END:VEVENT
BEGIN:VEVENT
UID:5902@omasgegenrechts-nord.de
DTSTART;TZID=Europe/Berlin:20260520T103000
DTEND;TZID=Europe/Berlin:20260520T123000
DTSTAMP:20260315T225915Z
URL:https://omasgegenrechts-nord.de/events/huerth-14taetiges-oma-mittwochs
 -treffen-2026-04-08-2026-04-22-2026-05-06-2026-05-20/
SUMMARY:Hürth: 14tätiges OMA Mittwochs-Treffen
DESCRIPTION:14tägiges Treffen\, mittwochs von 10:30 - 12:30 Uhr\n\nEv. Mar
 tin-Luther-King Kirche\n50354 Hürth\, Villering 38\n\nDie genauen Zeiten 
 können wechseln - bitte sicherheitshalber per Email anfragen:\n\nOMAS GEG
 EN RECHTS Hürth\nKontakt: omasgegenrechts-huerth@web.de
CATEGORIES:Hürth
END:VEVENT
BEGIN:VEVENT
UID:5908@omasgegenrechts-nord.de
DTSTART;TZID=Europe/Berlin:20260528T190000
DTEND;TZID=Europe/Berlin:20260528T210000
DTSTAMP:20260315T230003Z
URL:https://omasgegenrechts-nord.de/events/huerth-oma-abend-treffen-2/
SUMMARY:Hürth: OMA "Abend-Treffen"
DESCRIPTION:Dies ist unser monatlicher "Abendtermin"\, zusätzlich zu unser
 en 14tägigen Mittwochs-Treffen.\n\nEv. Martin-Luther-King Kirche\n50354 H
 ürth\, Villering 38\n\nDie genauen Zeiten können wechseln - bitte sicher
 heitshalber per Email anfragen:\n\nOMAS GEGEN RECHTS Hürth\nKontakt: omas
 gegenrechts-huerth@web.de
CATEGORIES:Hürth
END:VEVENT
BEGIN:VEVENT
UID:5903@omasgegenrechts-nord.de
DTSTART;TZID=Europe/Berlin:20260603T103000
DTEND;TZID=Europe/Berlin:20260603T123000
DTSTAMP:20260315T225915Z
URL:https://omasgegenrechts-nord.de/events/huerth-14taetiges-oma-mittwochs
 -treffen-2026-04-08-2026-04-22-2026-05-06-2026-05-20-2026-06-03/
SUMMARY:Hürth: 14tätiges OMA Mittwochs-Treffen
DESCRIPTION:14tägiges Treffen\, mittwochs von 10:30 - 12:30 Uhr\n\nEv. Mar
 tin-Luther-King Kirche\n50354 Hürth\, Villering 38\n\nDie genauen Zeiten 
 können wechseln - bitte sicherheitshalber per Email anfragen:\n\nOMAS GEG
 EN RECHTS Hürth\nKontakt: omasgegenrechts-huerth@web.de
CATEGORIES:Hürth
END:VEVENT
BEGIN:VEVENT
UID:5904@omasgegenrechts-nord.de
DTSTART;TZID=Europe/Berlin:20260617T103000
DTEND;TZID=Europe/Berlin:20260617T123000
DTSTAMP:20260315T225915Z
URL:https://omasgegenrechts-nord.de/events/huerth-14taetiges-oma-mittwochs
 -treffen-2026-04-08-2026-04-22-2026-05-06-2026-05-20-2026-06-03-2026-06-17
 /
SUMMARY:Hürth: 14tätiges OMA Mittwochs-Treffen
DESCRIPTION:14tägiges Treffen\, mittwochs von 10:30 - 12:30 Uhr\n\nEv. Mar
 tin-Luther-King Kirche\n50354 Hürth\, Villering 38\n\nDie genauen Zeiten 
 können wechseln - bitte sicherheitshalber per Email anfragen:\n\nOMAS GEG
 EN RECHTS Hürth\nKontakt: omasgegenrechts-huerth@web.de
CATEGORIES:Hürth
END:VEVENT
BEGIN:VEVENT
UID:5909@omasgegenrechts-nord.de
DTSTART;TZID=Europe/Berlin:20260625T190000
DTEND;TZID=Europe/Berlin:20260625T210000
DTSTAMP:20260315T230013Z
URL:https://omasgegenrechts-nord.de/events/huerth-oma-abend-treffen-3/
SUMMARY:Hürth: OMA "Abend-Treffen"
DESCRIPTION:Dies ist unser monatlicher "Abendtermin"\, zusätzlich zu unser
 en 14tägigen Mittwochs-Treffen.\n\nEv. Martin-Luther-King Kirche\n50354 H
 ürth\, Villering 38\n\nDie genauen Zeiten können wechseln - bitte sicher
 heitshalber per Email anfragen:\n\nOMAS GEGEN RECHTS Hürth\nKontakt: omas
 gegenrechts-huerth@web.de
CATEGORIES:Hürth
END:VEVENT
BEGIN:VEVENT
UID:5905@omasgegenrechts-nord.de
DTSTART;TZID=Europe/Berlin:20260701T103000
DTEND;TZID=Europe/Berlin:20260701T123000
DTSTAMP:20260315T225915Z
URL:https://omasgegenrechts-nord.de/events/huerth-14taetiges-oma-mittwochs
 -treffen-2026-04-08-2026-04-22-2026-05-06-2026-05-20-2026-06-03-2026-06-17
 -2026-07-01/
SUMMARY:Hürth: 14tätiges OMA Mittwochs-Treffen
DESCRIPTION:14tägiges Treffen\, mittwochs von 10:30 - 12:30 Uhr\n\nEv. Mar
 tin-Luther-King Kirche\n50354 Hürth\, Villering 38\n\nDie genauen Zeiten 
 können wechseln - bitte sicherheitshalber per Email anfragen:\n\nOMAS GEG
 EN RECHTS Hürth\nKontakt: omasgegenrechts-huerth@web.de
CATEGORIES:Hürth
END:VEVENT
BEGIN:VEVENT
UID:5906@omasgegenrechts-nord.de
DTSTART;TZID=Europe/Berlin:20260715T103000
DTEND;TZID=Europe/Berlin:20260715T123000
DTSTAMP:20260315T225915Z
URL:https://omasgegenrechts-nord.de/events/huerth-14taetiges-oma-mittwochs
 -treffen-2026-04-08-2026-04-22-2026-05-06-2026-05-20-2026-06-03-2026-06-17
 -2026-07-01-2026-07-15/
SUMMARY:Hürth: 14tätiges OMA Mittwochs-Treffen
DESCRIPTION:14tägiges Treffen\, mittwochs von 10:30 - 12:30 Uhr\n\nEv. Mar
 tin-Luther-King Kirche\n50354 Hürth\, Villering 38\n\nDie genauen Zeiten 
 können wechseln - bitte sicherheitshalber per Email anfragen:\n\nOMAS GEG
 EN RECHTS Hürth\nKontakt: omasgegenrechts-huerth@web.de
CATEGORIES:Hürth
END:VEVENT
BEGIN:VTIMEZONE
TZID:Europe/Berlin
X-LIC-LOCATION:Europe/Berlin
BEGIN:STANDARD
DTSTART:20251026T020000
TZOFFSETFROM:+0200
TZOFFSETTO:+0100
TZNAME:CET
END:STANDARD
BEGIN:DAYLIGHT
DTSTART:20260329T030000
TZOFFSETFROM:+0100
TZOFFSETTO:+0200
TZNAME:CEST
END:DAYLIGHT
END:VTIMEZONE
END:VCALENDAR