BEGIN:VCALENDAR
VERSION:2.0
PRODID:-//wp-events-plugin.com//7.2.2.1//EN
TZID:Europe/Berlin
X-WR-TIMEZONE:Europe/Berlin
BEGIN:VEVENT
UID:4714@omasgegenrechts-nord.de
DTSTART;TZID=Europe/Berlin:20260220T100000
DTEND;TZID=Europe/Berlin:20260220T120000
DTSTAMP:20251203T231116Z
URL:https://omasgegenrechts-nord.de/events/ratingen-oma-infostand-ratingen
 -west-2026-02-20/
SUMMARY:Ratingen: OMA Infostand Ratingen-West
DESCRIPTION:Infostand jeden 3. Freitag im Monat\nvon 10.00 – 12.00 Uhr\ni
 n Ratingen – West auf dem Berliner Platz\n\nOMAS GEGEN RECHTS Ratingen\
 nKontakt: info@omasgegenrechts-ratingen.de
CATEGORIES:Ratingen
END:VEVENT
BEGIN:VEVENT
UID:4721@omasgegenrechts-nord.de
DTSTART;TZID=Europe/Berlin:20260221T100000
DTEND;TZID=Europe/Berlin:20260221T120000
DTSTAMP:20251203T231106Z
URL:https://omasgegenrechts-nord.de/events/ratingen-oma-infostand-ratingen
 -mitte-2026-02-21/
SUMMARY:Ratingen: OMA Infostand Ratingen-Mitte
DESCRIPTION:Infostand jeden 3. Samstag im Monat\nvon 10.00 – 12.00 Uhr\ni
 n Ratingen – Mitte auf dem Marktplatz\n\nOMAS GEGEN RECHTS Ratingen\nKo
 ntakt: info@omasgegenrechts-ratingen.de
CATEGORIES:Ratingen
END:VEVENT
BEGIN:VEVENT
UID:5579@omasgegenrechts-nord.de
DTSTART;TZID=Europe/Berlin:20260305T183000
DTEND;TZID=Europe/Berlin:20260305T183000
DTSTAMP:20260126T094110Z
URL:https://omasgegenrechts-nord.de/events/ratingen-monatl-oma-treffen-202
 6-03-05/
SUMMARY:Ratingen: Monatl. OMA Treffen
DESCRIPTION:Monatliches Treffen:\nJeden 1. Donnerstag im Monat\n18:30 Uhr\n
 im FORUM.Lotsenpunkt\nDüsseldorfer Str. 38\, 40878 Ratingen.\n\nOMAS GEGE
 N RECHTS Ratingen\nKontakt: info@omasgegenrechts-ratingen.de
CATEGORIES:Ratingen
END:VEVENT
BEGIN:VEVENT
UID:4715@omasgegenrechts-nord.de
DTSTART;TZID=Europe/Berlin:20260320T100000
DTEND;TZID=Europe/Berlin:20260320T120000
DTSTAMP:20251203T231116Z
URL:https://omasgegenrechts-nord.de/events/ratingen-oma-infostand-ratingen
 -west-2026-03-20/
SUMMARY:Ratingen: OMA Infostand Ratingen-West
DESCRIPTION:Infostand jeden 3. Freitag im Monat\nvon 10.00 – 12.00 Uhr\ni
 n Ratingen – West auf dem Berliner Platz\n\nOMAS GEGEN RECHTS Ratingen\
 nKontakt: info@omasgegenrechts-ratingen.de
CATEGORIES:Ratingen
END:VEVENT
BEGIN:VEVENT
UID:4722@omasgegenrechts-nord.de
DTSTART;TZID=Europe/Berlin:20260321T100000
DTEND;TZID=Europe/Berlin:20260321T120000
DTSTAMP:20251203T231106Z
URL:https://omasgegenrechts-nord.de/events/ratingen-oma-infostand-ratingen
 -mitte-2026-03-21/
SUMMARY:Ratingen: OMA Infostand Ratingen-Mitte
DESCRIPTION:Infostand jeden 3. Samstag im Monat\nvon 10.00 – 12.00 Uhr\ni
 n Ratingen – Mitte auf dem Marktplatz\n\nOMAS GEGEN RECHTS Ratingen\nKo
 ntakt: info@omasgegenrechts-ratingen.de
CATEGORIES:Ratingen
END:VEVENT
BEGIN:VEVENT
UID:5580@omasgegenrechts-nord.de
DTSTART;TZID=Europe/Berlin:20260402T183000
DTEND;TZID=Europe/Berlin:20260402T183000
DTSTAMP:20260126T094110Z
URL:https://omasgegenrechts-nord.de/events/ratingen-monatl-oma-treffen-202
 6-04-02/
SUMMARY:Ratingen: Monatl. OMA Treffen
DESCRIPTION:Monatliches Treffen:\nJeden 1. Donnerstag im Monat\n18:30 Uhr\n
 im FORUM.Lotsenpunkt\nDüsseldorfer Str. 38\, 40878 Ratingen.\n\nOMAS GEGE
 N RECHTS Ratingen\nKontakt: info@omasgegenrechts-ratingen.de
CATEGORIES:Ratingen
END:VEVENT
BEGIN:VEVENT
UID:4716@omasgegenrechts-nord.de
DTSTART;TZID=Europe/Berlin:20260417T100000
DTEND;TZID=Europe/Berlin:20260417T120000
DTSTAMP:20251203T231116Z
URL:https://omasgegenrechts-nord.de/events/ratingen-oma-infostand-ratingen
 -west-2026-04-17/
SUMMARY:Ratingen: OMA Infostand Ratingen-West
DESCRIPTION:Infostand jeden 3. Freitag im Monat\nvon 10.00 – 12.00 Uhr\ni
 n Ratingen – West auf dem Berliner Platz\n\nOMAS GEGEN RECHTS Ratingen\
 nKontakt: info@omasgegenrechts-ratingen.de
CATEGORIES:Ratingen
END:VEVENT
BEGIN:VEVENT
UID:4723@omasgegenrechts-nord.de
DTSTART;TZID=Europe/Berlin:20260418T100000
DTEND;TZID=Europe/Berlin:20260418T120000
DTSTAMP:20251203T231106Z
URL:https://omasgegenrechts-nord.de/events/ratingen-oma-infostand-ratingen
 -mitte-2026-04-18/
SUMMARY:Ratingen: OMA Infostand Ratingen-Mitte
DESCRIPTION:Infostand jeden 3. Samstag im Monat\nvon 10.00 – 12.00 Uhr\ni
 n Ratingen – Mitte auf dem Marktplatz\n\nOMAS GEGEN RECHTS Ratingen\nKo
 ntakt: info@omasgegenrechts-ratingen.de
CATEGORIES:Ratingen
END:VEVENT
BEGIN:VEVENT
UID:5581@omasgegenrechts-nord.de
DTSTART;TZID=Europe/Berlin:20260507T183000
DTEND;TZID=Europe/Berlin:20260507T183000
DTSTAMP:20260126T094110Z
URL:https://omasgegenrechts-nord.de/events/ratingen-monatl-oma-treffen-202
 6-05-07/
SUMMARY:Ratingen: Monatl. OMA Treffen
DESCRIPTION:Monatliches Treffen:\nJeden 1. Donnerstag im Monat\n18:30 Uhr\n
 im FORUM.Lotsenpunkt\nDüsseldorfer Str. 38\, 40878 Ratingen.\n\nOMAS GEGE
 N RECHTS Ratingen\nKontakt: info@omasgegenrechts-ratingen.de
CATEGORIES:Ratingen
END:VEVENT
BEGIN:VEVENT
UID:4717@omasgegenrechts-nord.de
DTSTART;TZID=Europe/Berlin:20260515T100000
DTEND;TZID=Europe/Berlin:20260515T120000
DTSTAMP:20251203T231116Z
URL:https://omasgegenrechts-nord.de/events/ratingen-oma-infostand-ratingen
 -west-2026-05-15/
SUMMARY:Ratingen: OMA Infostand Ratingen-West
DESCRIPTION:Infostand jeden 3. Freitag im Monat\nvon 10.00 – 12.00 Uhr\ni
 n Ratingen – West auf dem Berliner Platz\n\nOMAS GEGEN RECHTS Ratingen\
 nKontakt: info@omasgegenrechts-ratingen.de
CATEGORIES:Ratingen
END:VEVENT
BEGIN:VEVENT
UID:4724@omasgegenrechts-nord.de
DTSTART;TZID=Europe/Berlin:20260516T100000
DTEND;TZID=Europe/Berlin:20260516T120000
DTSTAMP:20251203T231106Z
URL:https://omasgegenrechts-nord.de/events/ratingen-oma-infostand-ratingen
 -mitte-2026-05-16/
SUMMARY:Ratingen: OMA Infostand Ratingen-Mitte
DESCRIPTION:Infostand jeden 3. Samstag im Monat\nvon 10.00 – 12.00 Uhr\ni
 n Ratingen – Mitte auf dem Marktplatz\n\nOMAS GEGEN RECHTS Ratingen\nKo
 ntakt: info@omasgegenrechts-ratingen.de
CATEGORIES:Ratingen
END:VEVENT
BEGIN:VEVENT
UID:5582@omasgegenrechts-nord.de
DTSTART;TZID=Europe/Berlin:20260604T183000
DTEND;TZID=Europe/Berlin:20260604T183000
DTSTAMP:20260126T094110Z
URL:https://omasgegenrechts-nord.de/events/ratingen-monatl-oma-treffen-202
 6-06-04/
SUMMARY:Ratingen: Monatl. OMA Treffen
DESCRIPTION:Monatliches Treffen:\nJeden 1. Donnerstag im Monat\n18:30 Uhr\n
 im FORUM.Lotsenpunkt\nDüsseldorfer Str. 38\, 40878 Ratingen.\n\nOMAS GEGE
 N RECHTS Ratingen\nKontakt: info@omasgegenrechts-ratingen.de
CATEGORIES:Ratingen
END:VEVENT
BEGIN:VEVENT
UID:4718@omasgegenrechts-nord.de
DTSTART;TZID=Europe/Berlin:20260619T100000
DTEND;TZID=Europe/Berlin:20260619T120000
DTSTAMP:20251203T231116Z
URL:https://omasgegenrechts-nord.de/events/ratingen-oma-infostand-ratingen
 -west-2026-06-19/
SUMMARY:Ratingen: OMA Infostand Ratingen-West
DESCRIPTION:Infostand jeden 3. Freitag im Monat\nvon 10.00 – 12.00 Uhr\ni
 n Ratingen – West auf dem Berliner Platz\n\nOMAS GEGEN RECHTS Ratingen\
 nKontakt: info@omasgegenrechts-ratingen.de
CATEGORIES:Ratingen
END:VEVENT
BEGIN:VEVENT
UID:4725@omasgegenrechts-nord.de
DTSTART;TZID=Europe/Berlin:20260620T100000
DTEND;TZID=Europe/Berlin:20260620T120000
DTSTAMP:20251203T231106Z
URL:https://omasgegenrechts-nord.de/events/ratingen-oma-infostand-ratingen
 -mitte-2026-06-20/
SUMMARY:Ratingen: OMA Infostand Ratingen-Mitte
DESCRIPTION:Infostand jeden 3. Samstag im Monat\nvon 10.00 – 12.00 Uhr\ni
 n Ratingen – Mitte auf dem Marktplatz\n\nOMAS GEGEN RECHTS Ratingen\nKo
 ntakt: info@omasgegenrechts-ratingen.de
CATEGORIES:Ratingen
END:VEVENT
BEGIN:VEVENT
UID:5583@omasgegenrechts-nord.de
DTSTART;TZID=Europe/Berlin:20260702T183000
DTEND;TZID=Europe/Berlin:20260702T183000
DTSTAMP:20260126T094110Z
URL:https://omasgegenrechts-nord.de/events/ratingen-monatl-oma-treffen-202
 6-07-02/
SUMMARY:Ratingen: Monatl. OMA Treffen
DESCRIPTION:Monatliches Treffen:\nJeden 1. Donnerstag im Monat\n18:30 Uhr\n
 im FORUM.Lotsenpunkt\nDüsseldorfer Str. 38\, 40878 Ratingen.\n\nOMAS GEGE
 N RECHTS Ratingen\nKontakt: info@omasgegenrechts-ratingen.de
CATEGORIES:Ratingen
END:VEVENT
BEGIN:VTIMEZONE
TZID:Europe/Berlin
X-LIC-LOCATION:Europe/Berlin
BEGIN:STANDARD
DTSTART:20251026T020000
TZOFFSETFROM:+0200
TZOFFSETTO:+0100
TZNAME:CET
END:STANDARD
BEGIN:DAYLIGHT
DTSTART:20260329T030000
TZOFFSETFROM:+0100
TZOFFSETTO:+0200
TZNAME:CEST
END:DAYLIGHT
END:VTIMEZONE
END:VCALENDAR