BEGIN:VCALENDAR
VERSION:2.0
PRODID:-//wp-events-plugin.com//7.2.2.1//EN
TZID:Europe/Berlin
X-WR-TIMEZONE:Europe/Berlin
BEGIN:VEVENT
UID:4690@omasgegenrechts-nord.de
DTSTART;TZID=Europe/Berlin:20260507T190000
DTEND;TZID=Europe/Berlin:20260507T190000
DTSTAMP:20260226T170242Z
URL:https://omasgegenrechts-nord.de/events/erftstadt-oma-monats-treffen-20
 26-05-07/
SUMMARY:Erftstadt: OMA Monats-Treffen
DESCRIPTION:\n\nUnser Stammtisch findet jeden 1. Donnerstag im Monat statt\
 , um 19 Uhr im Köttinger Dorfleben.\n\nVeranstaltungsort: https://www.fac
 ebook.com/DorfladenKoettingen\n\nUm nicht unverhofft vor verschlossenen T
 üren zu stehen\, meldet Euch bei Interesse bitte bei ogr.rek@netcologne.d
 e\n\nOMAS GEGEN RECHTS Erftstadt\, Rhein-Erft Kreis\nKontakt: ogr.rek@ne
 tcologne.de\n\n&nbsp\;
CATEGORIES:Erftstadt, Rhein-Erft-Kreis
END:VEVENT
BEGIN:VTIMEZONE
TZID:Europe/Berlin
X-LIC-LOCATION:Europe/Berlin
BEGIN:DAYLIGHT
DTSTART:20260329T030000
TZOFFSETFROM:+0100
TZOFFSETTO:+0200
TZNAME:CEST
END:DAYLIGHT
END:VTIMEZONE
END:VCALENDAR