BEGIN:VCALENDAR
VERSION:2.0
PRODID:-//wp-events-plugin.com//7.2.2.1//EN
TZID:Europe/Berlin
X-WR-TIMEZONE:Europe/Berlin
BEGIN:VEVENT
UID:6037@omasgegenrechts-nord.de
DTSTART;TZID=Europe/Berlin:20260617T190000
DTEND;TZID=Europe/Berlin:20260617T190000
DTSTAMP:20260408T145830Z
URL:https://omasgegenrechts-nord.de/events/esslingen-oma-plenum-4/
SUMMARY:Esslingen: OMA Plenum
DESCRIPTION:Plenum\, Mehrgenerationen-Bürgerhaus Pliensauvorstadt\, Weilst
 raße 8\, 73734 Esslingen\n\nOMAS GEGEN RECHTS Esslingen am Neckar\nKontak
 t: ogr-esslingen@posteo.de
CATEGORIES:Esslingen
END:VEVENT
BEGIN:VTIMEZONE
TZID:Europe/Berlin
X-LIC-LOCATION:Europe/Berlin
BEGIN:DAYLIGHT
DTSTART:20260329T030000
TZOFFSETFROM:+0100
TZOFFSETTO:+0200
TZNAME:CEST
END:DAYLIGHT
END:VTIMEZONE
END:VCALENDAR