BEGIN:VCALENDAR
VERSION:2.0
PRODID:-//wp-events-plugin.com//7.2.2.1//EN
TZID:Europe/Berlin
X-WR-TIMEZONE:Europe/Berlin
BEGIN:VEVENT
UID:6011@omasgegenrechts-nord.de
DTSTART;TZID=Europe/Berlin;VALUE=DATE:20260510
DTEND;TZID=Europe/Berlin;VALUE=DATE:20260511
DTSTAMP:20260408T131935Z
URL:https://omasgegenrechts-nord.de/events/guetersloh-gedenktag-buecherver
 brennung/
SUMMARY:Gütersloh: Gedenktag Bücherverbrennung
DESCRIPTION:Am 10. Mai ist der Gedenktag der Bücherverbrennung 1933.\n\nDa
  an den Wochenenden "drumrum" bereits viele Aktivitäten in Gütersloh sta
 ttfinden\, ist es für einen Infostand wahrscheinlich zeitlich zu "eng".\n
 \nDaher gibt es die alternative Idee\, einen "Leseabend" zu veranstalten. 
 Dabei könnten Texte aus den damals verbrannten Büchern oder deren Autor:
 innen vorgelesen werden\, aber auch aus Werken\, die heute bspw. in den US
 A (wieder) auf dem "Index" stehen\, um die Aktualität und geschichtliche 
 Parallelen aufzuzeigen.\n\n 	https://www.verbrannte-buecher.de/\n 	https:/
 /eichendorff21.de/dossier/banned-books/\n 	https://www.spiegel.de/deinspie
 gel/indizierung-in-den-usa-der-klub-der-verbotenen-buecher-a-2f6e4b44-12d5
 -452e-a0b9-1ee7d454f6ad\n\nGenauere Aktionsplanung folgt.\n\nOMAS GEGEN RE
 CHTS OWL  / Gütersloh\nKontakt: omasgegenrechtsowl@gmail.com
CATEGORIES:OWL (Ostwestfalen-Lippe) / Gütersloh
END:VEVENT
BEGIN:VTIMEZONE
TZID:Europe/Berlin
X-LIC-LOCATION:Europe/Berlin
BEGIN:DAYLIGHT
DTSTART:20260329T030000
TZOFFSETFROM:+0100
TZOFFSETTO:+0200
TZNAME:CEST
END:DAYLIGHT
END:VTIMEZONE
END:VCALENDAR