BEGIN:VCALENDAR
VERSION:2.0
PRODID:-//wp-events-plugin.com//7.2.2.1//EN
TZID:Europe/Berlin
X-WR-TIMEZONE:Europe/Berlin
BEGIN:VEVENT
UID:6133@omasgegenrechts-nord.de
DTSTART;TZID=Europe/Berlin:20260508T180000
DTEND;TZID=Europe/Berlin:20260508T180000
DTSTAMP:20260417T175635Z
URL:https://omasgegenrechts-nord.de/events/hamburg-sued-gedenkveranstaltun
 g-zur-befreiung-vom-faschismus/
SUMMARY:Hamburg-Süd: Gedenkveranstaltung zur Befreiung vom Faschismus
DESCRIPTION:Gedenkveranstaltung zur Befreiung vom Faschismus\nThema: Euthan
 asie - damals -und heute?\n\n08. Mai 2026\, ab 18:00 Uhr\nHaus der Kirche\
 , Harburger Ring 20 (in den Räumen der "Brücke")\n\nProgramm:\n1. Begrü
 ßung:\n- OMAS GEGEN RECHTS\n- Senatorin Melanie Schlotzhauer\, Behörde f
 ür Gesundheit\, Soziales und Integration\n- Harburger Integrationsrat\n2.
  Einführung in das Thema (OMAS GEGEN RECHTS)\n3. Andreas Babel: Die Harbu
 rger Kinderärztin Lotte Albers und ihre Vorgeschichte\n4. Prof. Johannes
  Richter: „Auslese“ und „Ausmerze“ in Hamburger Kinderheimen währ
 end der  NS-Zeit\n4. Mareice Kaiser: Ableismus tötet\n5. Zeit für Disku
 ssion und Gespräche\n\nOMAS GEGEN RECHTS Hamburg-Süd\nKontakt: ogr-hambu
 rgsued@web.de\n\n[gallery type="rectangular" columns="1" size="medium" ids
 ="34064"]
CATEGORIES:Hamburg,Hamburg-Süd
END:VEVENT
BEGIN:VTIMEZONE
TZID:Europe/Berlin
X-LIC-LOCATION:Europe/Berlin
BEGIN:DAYLIGHT
DTSTART:20260329T030000
TZOFFSETFROM:+0100
TZOFFSETTO:+0200
TZNAME:CEST
END:DAYLIGHT
END:VTIMEZONE
END:VCALENDAR