BEGIN:VCALENDAR
VERSION:2.0
PRODID:-//wp-events-plugin.com//7.2.2.1//EN
TZID:Europe/Berlin
X-WR-TIMEZONE:Europe/Berlin
BEGIN:VEVENT
UID:5093@omasgegenrechts-nord.de
DTSTART;TZID=Europe/Berlin:20260311T170000
DTEND;TZID=Europe/Berlin:20260311T190000
DTSTAMP:20260111T125129Z
URL:https://omasgegenrechts-nord.de/events/hh-poppenbuettel-monatl-oma-tre
 ffen-2026-01-14-2026-02-11-2026-03-11/
SUMMARY:HH Poppenbüttel: Monatl. OMA Treffen
DESCRIPTION:Die OMAS GEGEN RECHTS Hamburg-Poppenbüttel\ntreffen sich am 2.
  Mittwoch jedes Monats\n17:00 bis 19:00 im Haus der Jugend Tegelsbarg\n\nO
 MAS GEGEN RECHTS Hamburg Poppenbüttel\nKontakt: ogrhamburg-poppenbuettel@
 posteo.de
CATEGORIES:Hamburg
END:VEVENT
BEGIN:VTIMEZONE
TZID:Europe/Berlin
X-LIC-LOCATION:Europe/Berlin
BEGIN:STANDARD
DTSTART:20251026T020000
TZOFFSETFROM:+0200
TZOFFSETTO:+0100
TZNAME:CET
END:STANDARD
END:VTIMEZONE
END:VCALENDAR