BEGIN:VCALENDAR
VERSION:2.0
PRODID:-//wp-events-plugin.com//7.2.2.1//EN
TZID:Europe/Berlin
X-WR-TIMEZONE:Europe/Berlin
BEGIN:VEVENT
UID:5649@omasgegenrechts-nord.de
DTSTART;TZID=Europe/Berlin:20260307T150000
DTEND;TZID=Europe/Berlin:20260307T170000
DTSTAMP:20260227T220325Z
URL:https://omasgegenrechts-nord.de/events/huerth-auftaktveranstaltung-kla
 ra-klartext/
SUMMARY:Hürth: Auftaktveranstaltung "Klara Klartext"
DESCRIPTION:Herzliche Einladung zur Auftaktveranstaltung und Vorstellung\n\
 nFakten statt Hetze – mit KI gegen Desinformation:\nKlara Klartext\, ein
  von den OMAS GEGEN RECHTS mitentwickelter ChatBot!\n\n Samstag 07. März 
 2026 von 15.00 – 17.00 Uhr \n\n Ev. Friedenskirche in Hürth-Efferen\, M
 artin-Luther-Straße 12\n\nWas ist Klara Klartext?\n\n„Klara Klartext“
  ist ein Chatbot\, speziell entwickelt um Hilfen gegen Hass\, Hetze und Fa
 lschmeldungen in Social Media anzubieten. Der Bot bietet Unterstützung i
 n Gesprächen an Infoständen\, in Diskussionen und in den sozialen Netzwe
 rken. Auch im Alltag\, am Arbeitsplatz\, in der Familie\, in politischen D
 iskussionen und Debatten\, gezielt auch bei Workshops in Schulen und in de
 r Jugendarbeit.\n\nDer Chat Bot wurde (ehrenamtlich) von Bernadette Smail 
 (Toronto) und den OMAS GEGEN RECHTS Hürth erarbeitet. Sandra von den OMA
 S GEGEN RECHTS Nord &amp\; Bund stand „Patin“\, hat bei der Webentwick
 lung beraten und hält eine Einführung in das Klara / KI System.\n\nNach 
 der Veranstaltung wird der QR Code allen kostenfrei zugänglich gemacht.\n
 \nOMAS GEGEN RECHTS Hürth\nKontakt: omasgegenrechts-huerth@web.de\n\n[g
 allery type="rectangular" columns="2" size="medium" ids="32418\,32417"]
CATEGORIES:Hürth
END:VEVENT
BEGIN:VTIMEZONE
TZID:Europe/Berlin
X-LIC-LOCATION:Europe/Berlin
BEGIN:STANDARD
DTSTART:20251026T020000
TZOFFSETFROM:+0200
TZOFFSETTO:+0100
TZNAME:CET
END:STANDARD
END:VTIMEZONE
END:VCALENDAR