BEGIN:VCALENDAR
VERSION:2.0
PRODID:-//wp-events-plugin.com//7.2.2.1//EN
TZID:Europe/Berlin
X-WR-TIMEZONE:Europe/Berlin
BEGIN:VEVENT
UID:5909@omasgegenrechts-nord.de
DTSTART;TZID=Europe/Berlin:20260625T190000
DTEND;TZID=Europe/Berlin:20260625T210000
DTSTAMP:20260315T230013Z
URL:https://omasgegenrechts-nord.de/events/huerth-oma-abend-treffen-3/
SUMMARY:Hürth: OMA "Abend-Treffen"
DESCRIPTION:Dies ist unser monatlicher "Abendtermin"\, zusätzlich zu unser
 en 14tägigen Mittwochs-Treffen.\n\nEv. Martin-Luther-King Kirche\n50354 H
 ürth\, Villering 38\n\nDie genauen Zeiten können wechseln - bitte sicher
 heitshalber per Email anfragen:\n\nOMAS GEGEN RECHTS Hürth\nKontakt: omas
 gegenrechts-huerth@web.de
CATEGORIES:Hürth
END:VEVENT
BEGIN:VTIMEZONE
TZID:Europe/Berlin
X-LIC-LOCATION:Europe/Berlin
BEGIN:DAYLIGHT
DTSTART:20260329T030000
TZOFFSETFROM:+0100
TZOFFSETTO:+0200
TZNAME:CEST
END:DAYLIGHT
END:VTIMEZONE
END:VCALENDAR