BEGIN:VCALENDAR
VERSION:2.0
PRODID:-//wp-events-plugin.com//7.2.2.1//EN
TZID:Europe/Berlin
X-WR-TIMEZONE:Europe/Berlin
BEGIN:VEVENT
UID:5534@omasgegenrechts-nord.de
DTSTART;TZID=Europe/Berlin:20260523T093000
DTEND;TZID=Europe/Berlin:20260523T120000
DTSTAMP:20260405T152112Z
URL:https://omasgegenrechts-nord.de/events/northeim-oma-info-stand-05/
SUMMARY:Northeim: OMA Info-Stand
DESCRIPTION:Info-Stand vor der Targo Bank\n\nOMAS GEGEN RECHTS Northeim\nK
 ontakt: omasgegenrechtsnortheim@gmx.de
CATEGORIES:Northeim
END:VEVENT
BEGIN:VTIMEZONE
TZID:Europe/Berlin
X-LIC-LOCATION:Europe/Berlin
BEGIN:DAYLIGHT
DTSTART:20260329T030000
TZOFFSETFROM:+0100
TZOFFSETTO:+0200
TZNAME:CEST
END:DAYLIGHT
END:VTIMEZONE
END:VCALENDAR