BEGIN:VCALENDAR
VERSION:2.0
PRODID:-//wp-events-plugin.com//7.2.2.1//EN
TZID:Europe/Berlin
X-WR-TIMEZONE:Europe/Berlin
BEGIN:VEVENT
UID:5820@omasgegenrechts-nord.de
DTSTART;TZID=Europe/Berlin:20260710T150000
DTEND;TZID=Europe/Berlin:20260710T150000
DTSTAMP:20260313T162824Z
URL:https://omasgegenrechts-nord.de/events/oldenburg-oma-plenum-3/
SUMMARY:Oldenburg: OMA Plenum
DESCRIPTION:Plenum der OMAS GEGEN RECHTS Oldenburg\nRäume des Präventions
 rates (PRO)\, Rosenstr. 41\n\nOMAS GEGEN RECHTS Oldenburg\nKontakt: Omas
 -gegen-rechts-oldenburg@mail.de
CATEGORIES:Oldenburg
END:VEVENT
BEGIN:VTIMEZONE
TZID:Europe/Berlin
X-LIC-LOCATION:Europe/Berlin
BEGIN:DAYLIGHT
DTSTART:20260329T030000
TZOFFSETFROM:+0100
TZOFFSETTO:+0200
TZNAME:CEST
END:DAYLIGHT
END:VTIMEZONE
END:VCALENDAR