BEGIN:VCALENDAR
VERSION:2.0
PRODID:-//wp-events-plugin.com//7.2.2.1//EN
TZID:Europe/Berlin
X-WR-TIMEZONE:Europe/Berlin
BEGIN:VEVENT
UID:6142@omasgegenrechts-nord.de
DTSTART;TZID=Europe/Berlin:20260510T110000
DTEND;TZID=Europe/Berlin:20260510T170000
DTSTAMP:20260418T213105Z
URL:https://omasgegenrechts-nord.de/events/osnabrueck-demokratiefest/
SUMMARY:Osnabrück: Demokratiefest
DESCRIPTION:Demokratiefest 10.05.26 von 11 bis 17 Uhr\nim Garten des Cafe F
 elka\n\nOMAS GEGEN RECHTS Osnabrück\nKontakt: info@omasgegenrechts-os.de
 \n\n[gallery type="rectangular" columns="2" size="medium" ids="34111\,3411
 0"]
CATEGORIES:Osnabrück
END:VEVENT
BEGIN:VTIMEZONE
TZID:Europe/Berlin
X-LIC-LOCATION:Europe/Berlin
BEGIN:DAYLIGHT
DTSTART:20260329T030000
TZOFFSETFROM:+0100
TZOFFSETTO:+0200
TZNAME:CEST
END:DAYLIGHT
END:VTIMEZONE
END:VCALENDAR